BEGIN:VCALENDAR
VERSION:2.0
PRODID:-//ChamberMaster//Event Calendar 2.0//EN
METHOD:PUBLISH
X-PUBLISHED-TTL:P3D
REFRESH-INTERVAL:P3D
CALSCALE:GREGORIAN
BEGIN:VEVENT
DTSTART:20260521T210000Z
DTEND:20260521T230000Z
X-MICROSOFT-CDO-ALLDAYEVENT:FALSE
SUMMARY:Business After Hours hosted by Wellness For Life
DESCRIPTION:Business After Hours\n\nhosted by Wellness For Life\n\nThursday\, May 21\, 2026: 5pm-7pm\n\n717 Lee Street (5th Floor)\, Charleston\n\nGet to know our new Chamber Member\, Wellness For Life!  Enjoy networking with local business & community leaders!  \n\n\n\n$10/Members or $20/Non-Members\n\nRSVP: executivedirector@southcharlestonchamber.org
X-ALT-DESC;FMTTYPE=text/html:<span style="font-size: 14px\;"><span style="color:#33cccc\;"><span style="font-size: 16px\;"><strong>Business After Hours<br />\n<em>hosted by Wellness For Life</em></strong></span></span><br />\n<strong><span style="color:#33cccc\;">Thursday\, May 21\, 2026: 5pm-7pm<br />\n717 Lee Street (5th Floor)\, Charleston</span><br />\n<em>Get to know our new Chamber Member\, Wellness For Life!&nbsp\; Enjoy networking with local business &amp\; community leaders!&nbsp\;&nbsp\;</em></strong><br />\n<br />\n$10/Members or $20/Non-Members<br />\nRSVP: executivedirector@southcharlestonchamber.org</span>
LOCATION:717 Lee Street South Charleston\, WV
UID:e.237.2846
SEQUENCE:3
DTSTAMP:20260420T231113Z
URL:http://business.southcharlestonchamber.org/events/details/business-after-hours-hosted-by-wellness-for-life-2846
END:VEVENT

END:VCALENDAR
